BEGIN:VCALENDAR
VERSION:2.0
PRODID:-//Reach Learning Disability - ECPv6.15.20//NONSGML v1.0//EN
CALSCALE:GREGORIAN
METHOD:PUBLISH
X-WR-CALNAME:Reach Learning Disability
X-ORIGINAL-URL:https://reachuk.org
X-WR-CALDESC:Events for Reach Learning Disability
REFRESH-INTERVAL;VALUE=DURATION:PT1H
X-Robots-Tag:noindex
X-PUBLISHED-TTL:PT1H
BEGIN:VTIMEZONE
TZID:Europe/London
BEGIN:DAYLIGHT
TZOFFSETFROM:+0000
TZOFFSETTO:+0100
TZNAME:BST
DTSTART:20220327T010000
END:DAYLIGHT
BEGIN:STANDARD
TZOFFSETFROM:+0100
TZOFFSETTO:+0000
TZNAME:GMT
DTSTART:20221030T010000
END:STANDARD
BEGIN:DAYLIGHT
TZOFFSETFROM:+0000
TZOFFSETTO:+0100
TZNAME:BST
DTSTART:20230326T010000
END:DAYLIGHT
BEGIN:STANDARD
TZOFFSETFROM:+0100
TZOFFSETTO:+0000
TZNAME:GMT
DTSTART:20231029T010000
END:STANDARD
BEGIN:DAYLIGHT
TZOFFSETFROM:+0000
TZOFFSETTO:+0100
TZNAME:BST
DTSTART:20240331T010000
END:DAYLIGHT
BEGIN:STANDARD
TZOFFSETFROM:+0100
TZOFFSETTO:+0000
TZNAME:GMT
DTSTART:20241027T010000
END:STANDARD
END:VTIMEZONE
BEGIN:VEVENT
DTSTART;TZID=Europe/London:20231201T180000
DTEND;TZID=Europe/London:20231201T200000
DTSTAMP:20260423T094258
CREATED:20231012T160652Z
LAST-MODIFIED:20231012T160836Z
UID:15349-1701453600-1701460800@reachuk.org
SUMMARY:Reach Mansfield Christmas Concert
DESCRIPTION:Reach Mansfield will be hosting their Christmas Concert on 1st December from 6pm – 8pm\, with light refreshments being served. There will be performances from both the singing and dance groups. See poster for full details. For more information call Maria on 01623 232748
URL:https://reachuk.org/event/reach-mansfield-christmas-concert-2/
LOCATION:Reach Mansfield\, St John's Centre\, St John's Street\, Mansfield\, Nottinghamshire\, NG18 1QH\, United Kingdom
END:VEVENT
BEGIN:VEVENT
DTSTART;TZID=Europe/London:20231205T131500
DTEND;TZID=Europe/London:20231205T153000
DTSTAMP:20260423T094258
CREATED:20231102T120133Z
LAST-MODIFIED:20231102T121507Z
UID:15505-1701782100-1701790200@reachuk.org
SUMMARY:Reach Newark ‘Dance through the Seasons’
DESCRIPTION:Reach Newark Reach Rockers have a dance performance on 5th December. Join us at 1:15pm for mince pies and hot drinks before the show begins at 1:45pm. See poster for full details. For tickets or more information please call Reach Newark – 01636 671939. \nVenue: Reach Newark Hawtonville Community Centre St Marys Gardens Newark NG24 4JQ
URL:https://reachuk.org/event/reach-newark-dance/
LOCATION:Reach Newark\, St Marys Gardens\, Hawtonville Community Centre\, Newark\, Nottinghamshire\, NG24 4JQ\, United Kingdom
END:VEVENT
END:VCALENDAR