BEGIN:VCALENDAR
VERSION:2.0
PRODID:-//Reach Learning Disability - ECPv6.15.20//NONSGML v1.0//EN
CALSCALE:GREGORIAN
METHOD:PUBLISH
X-WR-CALNAME:Reach Learning Disability
X-ORIGINAL-URL:https://reachuk.org
X-WR-CALDESC:Events for Reach Learning Disability
REFRESH-INTERVAL;VALUE=DURATION:PT1H
X-Robots-Tag:noindex
X-PUBLISHED-TTL:PT1H
BEGIN:VTIMEZONE
TZID:Europe/London
BEGIN:DAYLIGHT
TZOFFSETFROM:+0000
TZOFFSETTO:+0100
TZNAME:BST
DTSTART:20220327T010000
END:DAYLIGHT
BEGIN:STANDARD
TZOFFSETFROM:+0100
TZOFFSETTO:+0000
TZNAME:GMT
DTSTART:20221030T010000
END:STANDARD
BEGIN:DAYLIGHT
TZOFFSETFROM:+0000
TZOFFSETTO:+0100
TZNAME:BST
DTSTART:20230326T010000
END:DAYLIGHT
BEGIN:STANDARD
TZOFFSETFROM:+0100
TZOFFSETTO:+0000
TZNAME:GMT
DTSTART:20231029T010000
END:STANDARD
BEGIN:DAYLIGHT
TZOFFSETFROM:+0000
TZOFFSETTO:+0100
TZNAME:BST
DTSTART:20240331T010000
END:DAYLIGHT
BEGIN:STANDARD
TZOFFSETFROM:+0100
TZOFFSETTO:+0000
TZNAME:GMT
DTSTART:20241027T010000
END:STANDARD
END:VTIMEZONE
BEGIN:VEVENT
DTSTART;VALUE=DATE:20230728
DTEND;VALUE=DATE:20230731
DTSTAMP:20260422T165908
CREATED:20230316T140954Z
LAST-MODIFIED:20230714T083310Z
UID:14734-1690502400-1690761599@reachuk.org
SUMMARY:Deerstock Music Festival 28th - 30th July 2023
DESCRIPTION:Deerstock is a wonderfully small but beautiful family music festival organised by festival-goers for festivals goers\, on a not for profit basis. The Deerstock Collective is a group of volunteers who put their own time and energy to make a great weekend. The aim of the event is primarily to raise funds for good causes\, including Reach! Flower Pod Southwell are excited to be there again this year with a fun festival activity for families to enjoy.  \nLocation: Newton Cross Country Course\, Nottinghamshire. \nPlease email me at sarah.cobb@reachuk.org if you would be interested in helping volunteer at our stall for the event.  \nTo buy tickets got to Our Story ⋆ Deerstock \n\n\n\nEvent Website:\nOur Story ⋆ Deerstock\n\n\nTo volunteer at the event:\nCall Sarah on 01636 819066\n\n\n \n 
URL:https://reachuk.org/event/deerstock-2023/
LOCATION:Newton Cross Country Course\, Nottinghamshire.\, NG13 8HN
ATTACH;FMTTYPE=image/jpeg:https://reachuk.org/wp-content/uploads/2022/01/16406_753602954676906_5807359512530359138_n.jpg
END:VEVENT
END:VCALENDAR