BEGIN:VCALENDAR
VERSION:2.0
PRODID:-//Reach Learning Disability - ECPv6.15.20//NONSGML v1.0//EN
CALSCALE:GREGORIAN
METHOD:PUBLISH
X-WR-CALNAME:Reach Learning Disability
X-ORIGINAL-URL:https://reachuk.org
X-WR-CALDESC:Events for Reach Learning Disability
REFRESH-INTERVAL;VALUE=DURATION:PT1H
X-Robots-Tag:noindex
X-PUBLISHED-TTL:PT1H
BEGIN:VTIMEZONE
TZID:Europe/London
BEGIN:DAYLIGHT
TZOFFSETFROM:+0000
TZOFFSETTO:+0100
TZNAME:BST
DTSTART:20220327T010000
END:DAYLIGHT
BEGIN:STANDARD
TZOFFSETFROM:+0100
TZOFFSETTO:+0000
TZNAME:GMT
DTSTART:20221030T010000
END:STANDARD
BEGIN:DAYLIGHT
TZOFFSETFROM:+0000
TZOFFSETTO:+0100
TZNAME:BST
DTSTART:20230326T010000
END:DAYLIGHT
BEGIN:STANDARD
TZOFFSETFROM:+0100
TZOFFSETTO:+0000
TZNAME:GMT
DTSTART:20231029T010000
END:STANDARD
BEGIN:DAYLIGHT
TZOFFSETFROM:+0000
TZOFFSETTO:+0100
TZNAME:BST
DTSTART:20240331T010000
END:DAYLIGHT
BEGIN:STANDARD
TZOFFSETFROM:+0100
TZOFFSETTO:+0000
TZNAME:GMT
DTSTART:20241027T010000
END:STANDARD
END:VTIMEZONE
BEGIN:VEVENT
DTSTART;TZID=Europe/London:20230722T120000
DTEND;TZID=Europe/London:20230722T160000
DTSTAMP:20260422T165749
CREATED:20230509T152731Z
LAST-MODIFIED:20230714T083114Z
UID:14856-1690027200-1690041600@reachuk.org
SUMMARY:Clyde House\, Southwell Open Garden
DESCRIPTION:On Saturday 17th June and Saturday 22nd July Clyde House in Southwell will open its garden\, as part of the National Open Gardens Scheme.\n23 Westgate\, Southwell\, Nottinghamshire\, NG25 0JN\n17th June \n22nd July \n12-4pm \nAbout the garden:\nSecret\, intriguing\, organic walled garden in the centre of Southwell\, first opened for NGS in 1983 now reopening! Part formal to mirror the wisteria clad Georgian house with C13/14 listed stone arch. Sweeping lawn bottom of formal steps with long and circular herbaceous borders. Through to beautiful wildflower meadow\, wildlife pond\, fruit\, veg\, cut flower beds with greenhouse and compost bins. \n\n\nHome-made teas. Refreshments in aid of NGS; Beaumond House; Reach Learning Disability.\n\n\n\nFor more information go to: Find a Garden | National Garden Scheme (ngs.org.uk)\n\n\n\n\n\n\n\n\nAdmission \nAdult: £5.00 Child: Free
URL:https://reachuk.org/event/clyde-house-southwell-open-garden/
END:VEVENT
END:VCALENDAR